Workbook
Name Department: 'Set Up'!$C$18:$C$1013

Sheet Set Up
H3: Getting frustrated using excel to cost your jobs?
H5: Discover how digital timesheets, rosters and HR can simplify your workforce
H7: Learn more at: --> | J7: https://jointimecloud.com/
B10: WELCOME TO THE TIMECLOUD JOB COSTINGTEMPLATE
B12: STEP 1: Client Details | H12: STEP 2: Employee Details | L12: STEP 3: Job Details
B15: Clients | H15: Employees | L15: JOBS
B16: Enter your clients details | H16: Enter your employees details | L16: Enter the Jobs that you would like to cost labour for
B17: Client | C17: Contact | D17: Email | E17: Phone | F17: Address | H17: Employee | I17: Rate | J17: Position | L17: Job Name | M17: Client | N17: Start Date | O17: End Date | P17: Job Status | Q17: Notes
B18: Client A | C18: John Smith | D18: johnsmith@example.com | E18: 555-1234 | F18: 123 Main St | H18: Alex | I18: 20 | J18: Carpenter | L18: Project 1 | M18: Client A | N18: 45017 | P18: In Progress | Q18: Site preparation in progress
B19: Client B | C19: Jane Doe | D19: janedoe@example.com | E19: 555-5678 | F19: 456 Oak St | H19: Mark | I19: 25 | J19: Electrician | L19: Project 2 | M19: Client B | N19: 45019 | P19: In Progress | Q19: Initial design approved
H20: Sandra | I20: 22 | J20: Plumber | L20: Project 3 | M20: Client A | N20: 45021 | O20: 45036 | P20: Completed | Q20: Final inspection completed
B29: STEP 4: Enter Timesheets in the Timesheets tab | H29: STEP 5: Monitor The Labour Cost Of Your Jobs in the Job Summary Tab

Sheet Timesheets
E3: Getting frustrated using excel to cost your jobs?
E5: Discover how digital timesheets, rosters and HR can simplify your workforce
E7: Learn more at: --> | F7: https://jointimecloud.com/
B10: STEP 4: To enter a timesheet, fill in the Job, Employee, Date & Hours Collumns
B13: Job | C13: Employee | D13: Date | E13: Hours | F13: Cost
B14: Project 1 | C14: Alex | D14: 45017 | E14: 8 | F14: =IFERROR(VLOOKUP(C14,'Set Up'!$H$17:$J$27,2,FALSE)*E14,"") -> 160
B15: Project 1 | C15: Mark | D15: 45018 | E15: 6 | F15: =IFERROR(VLOOKUP(C15,'Set Up'!$H$17:$J$27,2,FALSE)*E15,"") -> 150
B16: Project 2 | C16: Alex | D16: 45019 | E16: 10 | F16: =IFERROR(VLOOKUP(C16,'Set Up'!$H$17:$J$27,2,FALSE)*E16,"") -> 200
B17: Project 2 | C17: Sandra | D17: 45020 | E17: 5 | F17: =IFERROR(VLOOKUP(C17,'Set Up'!$H$17:$J$27,2,FALSE)*E17,"") -> 110
F18: =IFERROR(VLOOKUP(C18,'Set Up'!$H$17:$J$27,2,FALSE)*E18,"")
F19: =IFERROR(VLOOKUP(C19,'Set Up'!$H$17:$J$27,2,FALSE)*E19,"")
F20: =IFERROR(VLOOKUP(C20,'Set Up'!$H$17:$J$27,2,FALSE)*E20,"")
F21: =IFERROR(VLOOKUP(C21,'Set Up'!$H$17:$J$27,2,FALSE)*E21,"")
F22: =IFERROR(VLOOKUP(C22,'Set Up'!$H$17:$J$27,2,FALSE)*E22,"")
F23: =IFERROR(VLOOKUP(C23,'Set Up'!$H$17:$J$27,2,FALSE)*E23,"")
F24: =IFERROR(VLOOKUP(C24,'Set Up'!$H$17:$J$27,2,FALSE)*E24,"")
F25: =IFERROR(VLOOKUP(C25,'Set Up'!$H$17:$J$27,2,FALSE)*E25,"")
F26: =IFERROR(VLOOKUP(C26,'Set Up'!$H$17:$J$27,2,FALSE)*E26,"")
F27: =IFERROR(VLOOKUP(C27,'Set Up'!$H$17:$J$27,2,FALSE)*E27,"")
F28: =IFERROR(VLOOKUP(C28,'Set Up'!$H$17:$J$27,2,FALSE)*E28,"")
F29: =IFERROR(VLOOKUP(C29,'Set Up'!$H$17:$J$27,2,FALSE)*E29,"")
... F226: =IFERROR(VLOOKUP(C226,'Set Up'!$H$17:$J$27,2,FALSE)*E226,"")

Sheet Job Summary
E3: Getting frustrated using excel to cost your jobs?
E5: Discover how digital timesheets, rosters and HR can simplify your workforce
E7: Learn more at: --> | F7: https://jointimecloud.com/
B10: {='Set Up'!L17:O27} -> Job Name | C10: Client | D10: Start Date | E10: End Date | F10: Total Hours | G10: Total Cost | H10: {='Set Up'!P17:Q27} -> Job Status | I10: Notes
B11: Project 1 | C11: Client A | D11: 45017 | E11: 0 | F11: =SUMIF(Timesheets!B:B,B11,Timesheets!E:E) -> 14 | G11: =SUMIF(Timesheets!B:B,B11,Timesheets!F:F) -> 310 | H11: In Progress | I11: Site preparation in progress
B12: Project 2 | C12: Client B | D12: 45019 | E12: 0 | F12: =SUMIF(Timesheets!B:B,B12,Timesheets!E:E) -> 15 | G12: =SUMIF(Timesheets!B:B,B12,Timesheets!F:F) -> 310 | H12: In Progress | I12: Initial design approved
B13: Project 3 | C13: Client A | D13: 45021 | E13: 45036 | F13: =SUMIF(Timesheets!B:B,B13,Timesheets!E:E) -> 0 | G13: =SUMIF(Timesheets!B:B,B13,Timesheets!F:F) -> 0 | H13: Completed | I13: Final inspection completed
B14: 0 | C14: 0 | D14: 0 | E14: 0 | F14: =SUMIF(Timesheets!B:B,B14,Timesheets!E:E) -> 0 | G14: =SUMIF(Timesheets!B:B,B14,Timesheets!F:F) -> 0 | H14: 0 | I14: 0
B15: 0 | C15: 0 | D15: 0 | E15: 0 | F15: =SUMIF(Timesheets!B:B,B15,Timesheets!E:E) -> 0 | G15: =SUMIF(Timesheets!B:B,B15,Timesheets!F:F) -> 0 | H15: 0 | I15: 0
B16: 0 | C16: 0 | D16: 0 | E16: 0 | F16: =SUMIF(Timesheets!B:B,B16,Timesheets!E:E) -> 0 | G16: =SUMIF(Timesheets!B:B,B16,Timesheets!F:F) -> 0 | H16: 0 | I16: 0
B17: 0 | C17: 0 | D17: 0 | E17: 0 | F17: =SUMIF(Timesheets!B:B,B17,Timesheets!E:E) -> 0 | G17: =SUMIF(Timesheets!B:B,B17,Timesheets!F:F) -> 0 | H17: 0 | I17: 0
B18: 0 | C18: 0 | D18: 0 | E18: 0 | F18: =SUMIF(Timesheets!B:B,B18,Timesheets!E:E) -> 0 | G18: =SUMIF(Timesheets!B:B,B18,Timesheets!F:F) -> 0 | H18: 0 | I18: 0
B19: 0 | C19: 0 | D19: 0 | E19: 0 | F19: =SUMIF(Timesheets!B:B,B19,Timesheets!E:E) -> 0 | G19: =SUMIF(Timesheets!B:B,B19,Timesheets!F:F) -> 0 | H19: 0 | I19: 0
B20: 0 | C20: 0 | D20: 0 | E20: 0 | F20: =SUMIF(Timesheets!B:B,B20,Timesheets!E:E) -> 0 | G20: =SUMIF(Timesheets!B:B,B20,Timesheets!F:F) -> 0 | H20: 0 | I20: 0
